BEGIN:VCALENDAR
VERSION:2.0
PRODID:-//Gewerbeverein Melchnau - ECPv6.15.13.1//NONSGML v1.0//EN
CALSCALE:GREGORIAN
METHOD:PUBLISH
X-WR-CALNAME:Gewerbeverein Melchnau
X-ORIGINAL-URL:https://gewerbeverein-melchnau.ch
X-WR-CALDESC:Veranstaltungen für Gewerbeverein Melchnau
REFRESH-INTERVAL;VALUE=DURATION:PT1H
X-Robots-Tag:noindex
X-PUBLISHED-TTL:PT1H
BEGIN:VTIMEZONE
TZID:Europe/Zurich
BEGIN:DAYLIGHT
TZOFFSETFROM:+0100
TZOFFSETTO:+0200
TZNAME:CEST
DTSTART:20250330T010000
END:DAYLIGHT
BEGIN:STANDARD
TZOFFSETFROM:+0200
TZOFFSETTO:+0100
TZNAME:CET
DTSTART:20251026T010000
END:STANDARD
BEGIN:DAYLIGHT
TZOFFSETFROM:+0100
TZOFFSETTO:+0200
TZNAME:CEST
DTSTART:20260329T010000
END:DAYLIGHT
BEGIN:STANDARD
TZOFFSETFROM:+0200
TZOFFSETTO:+0100
TZNAME:CET
DTSTART:20261025T010000
END:STANDARD
BEGIN:DAYLIGHT
TZOFFSETFROM:+0100
TZOFFSETTO:+0200
TZNAME:CEST
DTSTART:20270328T010000
END:DAYLIGHT
BEGIN:STANDARD
TZOFFSETFROM:+0200
TZOFFSETTO:+0100
TZNAME:CET
DTSTART:20271031T010000
END:STANDARD
END:VTIMEZONE
BEGIN:VEVENT
DTSTART;TZID=Europe/Zurich:20260313T200000
DTEND;TZID=Europe/Zurich:20260313T210000
DTSTAMP:20260424T173508
CREATED:20260210T174734Z
LAST-MODIFIED:20260210T174734Z
UID:1477-1773432000-1773435600@gewerbeverein-melchnau.ch
SUMMARY:Hauptversammlung Gewerbeverein Melchnau
DESCRIPTION:Datum:            Freitag\, 13. März 2026\nZeit:                 20.00 Uhr\nOrt:                  Restaurant Traube Reisiswil
URL:https://gewerbeverein-melchnau.ch/event/hauptversammlung-gewerbeverein-melchnau/
LOCATION:Restaurant Traube Reisiswil\, Dörfli 17\, 4919 Reisiswil\, 4919
END:VEVENT
END:VCALENDAR